BEGIN:VCALENDAR
VERSION:2.0
PRODID:-//wp-events-plugin.com//7.2.2.1//EN
BEGIN:VEVENT
UID:239@faithbasedmentoring.org
DTSTART;TZID=America/Indiana/Indianapolis:20260525T180000
DTEND;TZID=America/Indiana/Indianapolis:20260525T193000
DTSTAMP:20220628T183105Z
URL:https://faithbasedmentoring.org/events/monday-night-meetings-2-2026-05
 -25/
SUMMARY:Monday Night Meeting
DESCRIPTION:You are invited to a men's and women's group meeting where we v
 alue people and relationships over "programs."   We assist in the changing
  of hearts and lives.  Please plan to attend for new positive relationship
 s and opportunities for change.\n\nWe will provide a light dinner\, fellow
 ship\, support\, discussions and inspirational message\n\nFor transportati
 on or additional information\, please contact one of the mentors below (26
 0 area codes):\n\nCarl - 710-0989\nGonzalee - 341-1115\nJose - 415-9444\nL
 yle – 206-7791\nMarvin – 433-3049\nMick – 602-5247\nPam - 445-5617\n
 \nIf required\, obtain permission to attend ahead of time from your superv
 ising authority.
LOCATION:Tabernacle Baptist Church\, 3404 Chestnut Street\, Fort Wayne\, In
 diana\, 46803\, Allen County\, United States
GEO:41.069639;-85.094375
X-APPLE-STRUCTURED-LOCATION;VALUE=URI;X-ADDRESS=3404 Chestnut Street\, Fort
  Wayne\, Indiana\, 46803\, Allen County\, United States;X-APPLE-RADIUS=100
 ;X-TITLE=Tabernacle Baptist Church:geo:41.069639,-85.094375
END:VEVENT
BEGIN:VTIMEZONE
TZID:America/Indiana/Indianapolis
X-LIC-LOCATION:America/Indiana/Indianapolis
BEGIN:DAYLIGHT
DTSTART:20260308T030000
TZOFFSETFROM:-0500
TZOFFSETTO:-0400
TZNAME:EDT
END:DAYLIGHT
END:VTIMEZONE
END:VCALENDAR